BEGIN:VCALENDAR
VERSION:2.0
PRODID:-//Mundial 2026//ES
BEGIN:VEVENT
UID:G1-M1@mundial2026
DTSTAMP:20260419T125755Z
DTSTART:20260622T140000Z
DTEND:20260622T160000Z
SUMMARY:Argentina vs Austria
DESCRIPTION:Telefe | TV Pública | DSports
BEGIN:VALARM
TRIGGER:-PT30M
ACTION:DISPLAY
DESCRIPTION:Empieza Argentina vs Austria
END:VALARM
END:VEVENT
BEGIN:VEVENT
UID:G1-M2@mundial2026
DTSTAMP:20260419T125755Z
DTSTART:20260616T220000Z
DTEND:20260617T000000Z
SUMMARY:Argentina vs Argelia
DESCRIPTION:Telefe | TV Pública | DSports
BEGIN:VALARM
TRIGGER:-PT30M
ACTION:DISPLAY
DESCRIPTION:Empieza Argentina vs Argelia
END:VALARM
END:VEVENT
BEGIN:VEVENT
UID:G1-M3@mundial2026
DTSTAMP:20260419T125755Z
DTSTART:20260628T010000Z
DTEND:20260628T030000Z
SUMMARY:Argentina vs Jordania
DESCRIPTION:Telefe | TV Pública | DSports
BEGIN:VALARM
TRIGGER:-PT30M
ACTION:DISPLAY
DESCRIPTION:Empieza Argentina vs Jordania
END:VALARM
END:VEVENT
BEGIN:VEVENT
UID:G1-M4@mundial2026
DTSTAMP:20260419T125755Z
DTSTART:20260617T010000Z
DTEND:20260617T030000Z
SUMMARY:Austria vs Argelia
DESCRIPTION:DSports
BEGIN:VALARM
TRIGGER:-PT30M
ACTION:DISPLAY
DESCRIPTION:Empieza Austria vs Argelia
END:VALARM
END:VEVENT
BEGIN:VEVENT
UID:G1-M5@mundial2026
DTSTAMP:20260419T125755Z
DTSTART:20260628T010000Z
DTEND:20260628T030000Z
SUMMARY:Austria vs Jordania
DESCRIPTION:DSports
BEGIN:VALARM
TRIGGER:-PT30M
ACTION:DISPLAY
DESCRIPTION:Empieza Austria vs Jordania
END:VALARM
END:VEVENT
BEGIN:VEVENT
UID:G1-M6@mundial2026
DTSTAMP:20260419T125755Z
DTSTART:20260623T000000Z
DTEND:20260623T020000Z
SUMMARY:Argelia vs Jordania
DESCRIPTION:DSports
BEGIN:VALARM
TRIGGER:-PT30M
ACTION:DISPLAY
DESCRIPTION:Empieza Argelia vs Jordania
END:VALARM
END:VEVENT
BEGIN:VEVENT
UID:G2-M1@mundial2026
DTSTAMP:20260419T125755Z
DTSTART:20260613T190000Z
DTEND:20260613T210000Z
SUMMARY:Brasil vs Marruecos
DESCRIPTION:DSports | Telefe
BEGIN:VALARM
TRIGGER:-PT30M
ACTION:DISPLAY
DESCRIPTION:Empieza Brasil vs Marruecos
END:VALARM
END:VEVENT
BEGIN:VEVENT
UID:G2-M2@mundial2026
DTSTAMP:20260419T125755Z
DTSTART:20260619T220000Z
DTEND:20260620T000000Z
SUMMARY:Brasil vs Haití
DESCRIPTION:DSports | Telefe
BEGIN:VALARM
TRIGGER:-PT30M
ACTION:DISPLAY
DESCRIPTION:Empieza Brasil vs Haití
END:VALARM
END:VEVENT
BEGIN:VEVENT
UID:G2-M3@mundial2026
DTSTAMP:20260419T125755Z
DTSTART:20260624T190000Z
DTEND:20260624T210000Z
SUMMARY:Brasil vs Escocia
DESCRIPTION:DSports | Telefe
BEGIN:VALARM
TRIGGER:-PT30M
ACTION:DISPLAY
DESCRIPTION:Empieza Brasil vs Escocia
END:VALARM
END:VEVENT
BEGIN:VEVENT
UID:G2-M4@mundial2026
DTSTAMP:20260419T125755Z
DTSTART:20260624T190000Z
DTEND:20260624T210000Z
SUMMARY:Marruecos vs Haití
DESCRIPTION:DSports
BEGIN:VALARM
TRIGGER:-PT30M
ACTION:DISPLAY
DESCRIPTION:Empieza Marruecos vs Haití
END:VALARM
END:VEVENT
BEGIN:VEVENT
UID:G2-M5@mundial2026
DTSTAMP:20260419T125755Z
DTSTART:20260619T190000Z
DTEND:20260619T210000Z
SUMMARY:Marruecos vs Escocia
DESCRIPTION:DSports
BEGIN:VALARM
TRIGGER:-PT30M
ACTION:DISPLAY
DESCRIPTION:Empieza Marruecos vs Escocia
END:VALARM
END:VEVENT
BEGIN:VEVENT
UID:G2-M6@mundial2026
DTSTAMP:20260419T125755Z
DTSTART:20260613T220000Z
DTEND:20260614T000000Z
SUMMARY:Haití vs Escocia
DESCRIPTION:DSports
BEGIN:VALARM
TRIGGER:-PT30M
ACTION:DISPLAY
DESCRIPTION:Empieza Haití vs Escocia
END:VALARM
END:VEVENT
BEGIN:VEVENT
UID:G3-M1@mundial2026
DTSTAMP:20260419T125755Z
DTSTART:20260621T130000Z
DTEND:20260621T150000Z
SUMMARY:España vs Arabia Saudí
DESCRIPTION:DSports | Telefe
BEGIN:VALARM
TRIGGER:-PT30M
ACTION:DISPLAY
DESCRIPTION:Empieza España vs Arabia Saudí
END:VALARM
END:VEVENT
BEGIN:VEVENT
UID:G3-M2@mundial2026
DTSTAMP:20260419T125755Z
DTSTART:20260615T130000Z
DTEND:20260615T150000Z
SUMMARY:España vs Cabo Verde
DESCRIPTION:DSports | Telefe
BEGIN:VALARM
TRIGGER:-PT30M
ACTION:DISPLAY
DESCRIPTION:Empieza España vs Cabo Verde
END:VALARM
END:VEVENT
BEGIN:VEVENT
UID:G3-M3@mundial2026
DTSTAMP:20260419T125755Z
DTSTART:20260626T210000Z
DTEND:20260626T230000Z
SUMMARY:España vs Uruguay
DESCRIPTION:DSports | Telefe
BEGIN:VALARM
TRIGGER:-PT30M
ACTION:DISPLAY
DESCRIPTION:Empieza España vs Uruguay
END:VALARM
END:VEVENT
BEGIN:VEVENT
UID:G3-M4@mundial2026
DTSTAMP:20260419T125755Z
DTSTART:20260626T210000Z
DTEND:20260626T230000Z
SUMMARY:Arabia Saudí vs Cabo Verde
DESCRIPTION:DSports
BEGIN:VALARM
TRIGGER:-PT30M
ACTION:DISPLAY
DESCRIPTION:Empieza Arabia Saudí vs Cabo Verde
END:VALARM
END:VEVENT
BEGIN:VEVENT
UID:G3-M5@mundial2026
DTSTAMP:20260419T125755Z
DTSTART:20260615T190000Z
DTEND:20260615T210000Z
SUMMARY:Arabia Saudí vs Uruguay
DESCRIPTION:DSports
BEGIN:VALARM
TRIGGER:-PT30M
ACTION:DISPLAY
DESCRIPTION:Empieza Arabia Saudí vs Uruguay
END:VALARM
END:VEVENT
BEGIN:VEVENT
UID:G3-M6@mundial2026
DTSTAMP:20260419T125755Z
DTSTART:20260621T190000Z
DTEND:20260621T210000Z
SUMMARY:Cabo Verde vs Uruguay
DESCRIPTION:DSports
BEGIN:VALARM
TRIGGER:-PT30M
ACTION:DISPLAY
DESCRIPTION:Empieza Cabo Verde vs Uruguay
END:VALARM
END:VEVENT
BEGIN:VEVENT
UID:G4-M1@mundial2026
DTSTAMP:20260419T125755Z
DTSTART:20260616T160000Z
DTEND:20260616T180000Z
SUMMARY:Francia vs Senegal
DESCRIPTION:DSports | Telefe
BEGIN:VALARM
TRIGGER:-PT30M
ACTION:DISPLAY
DESCRIPTION:Empieza Francia vs Senegal
END:VALARM
END:VEVENT
BEGIN:VEVENT
UID:G4-M2@mundial2026
DTSTAMP:20260419T125755Z
DTSTART:20260622T180000Z
DTEND:20260622T200000Z
SUMMARY:Francia vs Irak
DESCRIPTION:DSports
BEGIN:VALARM
TRIGGER:-PT30M
ACTION:DISPLAY
DESCRIPTION:Empieza Francia vs Irak
END:VALARM
END:VEVENT
BEGIN:VEVENT
UID:G4-M3@mundial2026
DTSTAMP:20260419T125755Z
DTSTART:20260626T160000Z
DTEND:20260626T180000Z
SUMMARY:Francia vs Noruega
DESCRIPTION:DSports
BEGIN:VALARM
TRIGGER:-PT30M
ACTION:DISPLAY
DESCRIPTION:Empieza Francia vs Noruega
END:VALARM
END:VEVENT
BEGIN:VEVENT
UID:G4-M4@mundial2026
DTSTAMP:20260419T125755Z
DTSTART:20260626T160000Z
DTEND:20260626T180000Z
SUMMARY:Senegal vs Irak
DESCRIPTION:DSports
BEGIN:VALARM
TRIGGER:-PT30M
ACTION:DISPLAY
DESCRIPTION:Empieza Senegal vs Irak
END:VALARM
END:VEVENT
BEGIN:VEVENT
UID:G4-M5@mundial2026
DTSTAMP:20260419T125755Z
DTSTART:20260622T210000Z
DTEND:20260622T230000Z
SUMMARY:Senegal vs Noruega
DESCRIPTION:DSports
BEGIN:VALARM
TRIGGER:-PT30M
ACTION:DISPLAY
DESCRIPTION:Empieza Senegal vs Noruega
END:VALARM
END:VEVENT
BEGIN:VEVENT
UID:G4-M6@mundial2026
DTSTAMP:20260419T125755Z
DTSTART:20260616T190000Z
DTEND:20260616T210000Z
SUMMARY:Irak vs Noruega
DESCRIPTION:DSports
BEGIN:VALARM
TRIGGER:-PT30M
ACTION:DISPLAY
DESCRIPTION:Empieza Irak vs Noruega
END:VALARM
END:VEVENT
BEGIN:VEVENT
UID:G5-M1@mundial2026
DTSTAMP:20260419T125755Z
DTSTART:20260617T170000Z
DTEND:20260617T190000Z
SUMMARY:Inglaterra vs Croacia
DESCRIPTION:DSports | Telefe
BEGIN:VALARM
TRIGGER:-PT30M
ACTION:DISPLAY
DESCRIPTION:Empieza Inglaterra vs Croacia
END:VALARM
END:VEVENT
BEGIN:VEVENT
UID:G5-M2@mundial2026
DTSTAMP:20260419T125755Z
DTSTART:20260623T170000Z
DTEND:20260623T190000Z
SUMMARY:Inglaterra vs Ghana
DESCRIPTION:DSports | Telefe
BEGIN:VALARM
TRIGGER:-PT30M
ACTION:DISPLAY
DESCRIPTION:Empieza Inglaterra vs Ghana
END:VALARM
END:VEVENT
BEGIN:VEVENT
UID:G5-M3@mundial2026
DTSTAMP:20260419T125755Z
DTSTART:20260627T180000Z
DTEND:20260627T200000Z
SUMMARY:Inglaterra vs Panamá
DESCRIPTION:DSports
BEGIN:VALARM
TRIGGER:-PT30M
ACTION:DISPLAY
DESCRIPTION:Empieza Inglaterra vs Panamá
END:VALARM
END:VEVENT
BEGIN:VEVENT
UID:G5-M4@mundial2026
DTSTAMP:20260419T125755Z
DTSTART:20260627T180000Z
DTEND:20260627T200000Z
SUMMARY:Croacia vs Ghana
DESCRIPTION:DSports
BEGIN:VALARM
TRIGGER:-PT30M
ACTION:DISPLAY
DESCRIPTION:Empieza Croacia vs Ghana
END:VALARM
END:VEVENT
BEGIN:VEVENT
UID:G5-M5@mundial2026
DTSTAMP:20260419T125755Z
DTSTART:20260623T200000Z
DTEND:20260623T220000Z
SUMMARY:Croacia vs Panamá
DESCRIPTION:DSports
BEGIN:VALARM
TRIGGER:-PT30M
ACTION:DISPLAY
DESCRIPTION:Empieza Croacia vs Panamá
END:VALARM
END:VEVENT
BEGIN:VEVENT
UID:G5-M6@mundial2026
DTSTAMP:20260419T125755Z
DTSTART:20260617T200000Z
DTEND:20260617T220000Z
SUMMARY:Ghana vs Panamá
DESCRIPTION:DSports
BEGIN:VALARM
TRIGGER:-PT30M
ACTION:DISPLAY
DESCRIPTION:Empieza Ghana vs Panamá
END:VALARM
END:VEVENT
BEGIN:VEVENT
UID:G6-M1@mundial2026
DTSTAMP:20260419T125755Z
DTSTART:20260617T140000Z
DTEND:20260617T160000Z
SUMMARY:Portugal vs RD Congo
DESCRIPTION:DSports
BEGIN:VALARM
TRIGGER:-PT30M
ACTION:DISPLAY
DESCRIPTION:Empieza Portugal vs RD Congo
END:VALARM
END:VEVENT
BEGIN:VEVENT
UID:G6-M2@mundial2026
DTSTAMP:20260419T125755Z
DTSTART:20260623T140000Z
DTEND:20260623T160000Z
SUMMARY:Portugal vs Uzbekistán
DESCRIPTION:DSports
BEGIN:VALARM
TRIGGER:-PT30M
ACTION:DISPLAY
DESCRIPTION:Empieza Portugal vs Uzbekistán
END:VALARM
END:VEVENT
BEGIN:VEVENT
UID:G6-M3@mundial2026
DTSTAMP:20260419T125755Z
DTSTART:20260627T203000Z
DTEND:20260627T223000Z
SUMMARY:Portugal vs Colombia
DESCRIPTION:DSports
BEGIN:VALARM
TRIGGER:-PT30M
ACTION:DISPLAY
DESCRIPTION:Empieza Portugal vs Colombia
END:VALARM
END:VEVENT
BEGIN:VEVENT
UID:G6-M4@mundial2026
DTSTAMP:20260419T125755Z
DTSTART:20260627T203000Z
DTEND:20260627T223000Z
SUMMARY:RD Congo vs Uzbekistán
DESCRIPTION:DSports
BEGIN:VALARM
TRIGGER:-PT30M
ACTION:DISPLAY
DESCRIPTION:Empieza RD Congo vs Uzbekistán
END:VALARM
END:VEVENT
BEGIN:VEVENT
UID:G6-M5@mundial2026
DTSTAMP:20260419T125755Z
DTSTART:20260623T230000Z
DTEND:20260624T010000Z
SUMMARY:RD Congo vs Colombia
DESCRIPTION:DSports
BEGIN:VALARM
TRIGGER:-PT30M
ACTION:DISPLAY
DESCRIPTION:Empieza RD Congo vs Colombia
END:VALARM
END:VEVENT
BEGIN:VEVENT
UID:G6-M6@mundial2026
DTSTAMP:20260419T125755Z
DTSTART:20260617T230000Z
DTEND:20260618T010000Z
SUMMARY:Uzbekistán vs Colombia
DESCRIPTION:DSports
BEGIN:VALARM
TRIGGER:-PT30M
ACTION:DISPLAY
DESCRIPTION:Empieza Uzbekistán vs Colombia
END:VALARM
END:VEVENT
BEGIN:VEVENT
UID:G7-M1@mundial2026
DTSTAMP:20260419T125755Z
DTSTART:20260614T140000Z
DTEND:20260614T160000Z
SUMMARY:Alemania vs Curazao
DESCRIPTION:DSports
BEGIN:VALARM
TRIGGER:-PT30M
ACTION:DISPLAY
DESCRIPTION:Empieza Alemania vs Curazao
END:VALARM
END:VEVENT
BEGIN:VEVENT
UID:G7-M2@mundial2026
DTSTAMP:20260419T125755Z
DTSTART:20260620T170000Z
DTEND:20260620T190000Z
SUMMARY:Alemania vs Costa de Marfil
DESCRIPTION:DSports
BEGIN:VALARM
TRIGGER:-PT30M
ACTION:DISPLAY
DESCRIPTION:Empieza Alemania vs Costa de Marfil
END:VALARM
END:VEVENT
BEGIN:VEVENT
UID:G7-M3@mundial2026
DTSTAMP:20260419T125755Z
DTSTART:20260625T170000Z
DTEND:20260625T190000Z
SUMMARY:Alemania vs Ecuador
DESCRIPTION:DSports
BEGIN:VALARM
TRIGGER:-PT30M
ACTION:DISPLAY
DESCRIPTION:Empieza Alemania vs Ecuador
END:VALARM
END:VEVENT
BEGIN:VEVENT
UID:G7-M4@mundial2026
DTSTAMP:20260419T125755Z
DTSTART:20260625T170000Z
DTEND:20260625T190000Z
SUMMARY:Curazao vs Costa de Marfil
DESCRIPTION:DSports
BEGIN:VALARM
TRIGGER:-PT30M
ACTION:DISPLAY
DESCRIPTION:Empieza Curazao vs Costa de Marfil
END:VALARM
END:VEVENT
BEGIN:VEVENT
UID:G7-M5@mundial2026
DTSTAMP:20260419T125755Z
DTSTART:20260620T210000Z
DTEND:20260620T230000Z
SUMMARY:Curazao vs Ecuador
DESCRIPTION:DSports
BEGIN:VALARM
TRIGGER:-PT30M
ACTION:DISPLAY
DESCRIPTION:Empieza Curazao vs Ecuador
END:VALARM
END:VEVENT
BEGIN:VEVENT
UID:G7-M6@mundial2026
DTSTAMP:20260419T125755Z
DTSTART:20260614T200000Z
DTEND:20260614T220000Z
SUMMARY:Costa de Marfil vs Ecuador
DESCRIPTION:DSports
BEGIN:VALARM
TRIGGER:-PT30M
ACTION:DISPLAY
DESCRIPTION:Empieza Costa de Marfil vs Ecuador
END:VALARM
END:VEVENT
BEGIN:VEVENT
UID:G8-M1@mundial2026
DTSTAMP:20260419T125755Z
DTSTART:20260614T170000Z
DTEND:20260614T190000Z
SUMMARY:Países Bajos vs Japón
DESCRIPTION:DSports
BEGIN:VALARM
TRIGGER:-PT30M
ACTION:DISPLAY
DESCRIPTION:Empieza Países Bajos vs Japón
END:VALARM
END:VEVENT
BEGIN:VEVENT
UID:G8-M2@mundial2026
DTSTAMP:20260419T125755Z
DTSTART:20260620T140000Z
DTEND:20260620T160000Z
SUMMARY:Países Bajos vs Suecia
DESCRIPTION:DSports
BEGIN:VALARM
TRIGGER:-PT30M
ACTION:DISPLAY
DESCRIPTION:Empieza Países Bajos vs Suecia
END:VALARM
END:VEVENT
BEGIN:VEVENT
UID:G8-M3@mundial2026
DTSTAMP:20260419T125755Z
DTSTART:20260625T200000Z
DTEND:20260625T220000Z
SUMMARY:Países Bajos vs Túnez
DESCRIPTION:DSports
BEGIN:VALARM
TRIGGER:-PT30M
ACTION:DISPLAY
DESCRIPTION:Empieza Países Bajos vs Túnez
END:VALARM
END:VEVENT
BEGIN:VEVENT
UID:G8-M4@mundial2026
DTSTAMP:20260419T125755Z
DTSTART:20260625T200000Z
DTEND:20260625T220000Z
SUMMARY:Japón vs Suecia
DESCRIPTION:DSports
BEGIN:VALARM
TRIGGER:-PT30M
ACTION:DISPLAY
DESCRIPTION:Empieza Japón vs Suecia
END:VALARM
END:VEVENT
BEGIN:VEVENT
UID:G8-M5@mundial2026
DTSTAMP:20260419T125755Z
DTSTART:20260621T210000Z
DTEND:20260621T230000Z
SUMMARY:Japón vs Túnez
DESCRIPTION:DSports
BEGIN:VALARM
TRIGGER:-PT30M
ACTION:DISPLAY
DESCRIPTION:Empieza Japón vs Túnez
END:VALARM
END:VEVENT
BEGIN:VEVENT
UID:G8-M6@mundial2026
DTSTAMP:20260419T125755Z
DTSTART:20260614T230000Z
DTEND:20260615T010000Z
SUMMARY:Suecia vs Túnez
DESCRIPTION:DSports
BEGIN:VALARM
TRIGGER:-PT30M
ACTION:DISPLAY
DESCRIPTION:Empieza Suecia vs Túnez
END:VALARM
END:VEVENT
BEGIN:VEVENT
UID:G9-M1@mundial2026
DTSTAMP:20260419T125755Z
DTSTART:20260611T160000Z
DTEND:20260611T180000Z
SUMMARY:México vs Sudáfrica
DESCRIPTION:DSports | Telefe
BEGIN:VALARM
TRIGGER:-PT30M
ACTION:DISPLAY
DESCRIPTION:Empieza México vs Sudáfrica
END:VALARM
END:VEVENT
BEGIN:VEVENT
UID:G9-M2@mundial2026
DTSTAMP:20260419T125755Z
DTSTART:20260618T220000Z
DTEND:20260619T000000Z
SUMMARY:México vs Corea del Sur
DESCRIPTION:DSports | Telefe
BEGIN:VALARM
TRIGGER:-PT30M
ACTION:DISPLAY
DESCRIPTION:Empieza México vs Corea del Sur
END:VALARM
END:VEVENT
BEGIN:VEVENT
UID:G9-M3@mundial2026
DTSTAMP:20260419T125755Z
DTSTART:20260624T220000Z
DTEND:20260625T000000Z
SUMMARY:México vs Chequia
DESCRIPTION:DSports | Telefe
BEGIN:VALARM
TRIGGER:-PT30M
ACTION:DISPLAY
DESCRIPTION:Empieza México vs Chequia
END:VALARM
END:VEVENT
BEGIN:VEVENT
UID:G9-M4@mundial2026
DTSTAMP:20260419T125755Z
DTSTART:20260624T220000Z
DTEND:20260625T000000Z
SUMMARY:Sudáfrica vs Corea del Sur
DESCRIPTION:DSports
BEGIN:VALARM
TRIGGER:-PT30M
ACTION:DISPLAY
DESCRIPTION:Empieza Sudáfrica vs Corea del Sur
END:VALARM
END:VEVENT
BEGIN:VEVENT
UID:G9-M5@mundial2026
DTSTAMP:20260419T125755Z
DTSTART:20260618T130000Z
DTEND:20260618T150000Z
SUMMARY:Sudáfrica vs Chequia
DESCRIPTION:DSports
BEGIN:VALARM
TRIGGER:-PT30M
ACTION:DISPLAY
DESCRIPTION:Empieza Sudáfrica vs Chequia
END:VALARM
END:VEVENT
BEGIN:VEVENT
UID:G9-M6@mundial2026
DTSTAMP:20260419T125755Z
DTSTART:20260611T230000Z
DTEND:20260612T010000Z
SUMMARY:Corea del Sur vs Chequia
DESCRIPTION:DSports
BEGIN:VALARM
TRIGGER:-PT30M
ACTION:DISPLAY
DESCRIPTION:Empieza Corea del Sur vs Chequia
END:VALARM
END:VEVENT
BEGIN:VEVENT
UID:G10-M1@mundial2026
DTSTAMP:20260419T125755Z
DTSTART:20260612T220000Z
DTEND:20260613T000000Z
SUMMARY:Estados Unidos vs Paraguay
DESCRIPTION:DSports | Telefe
BEGIN:VALARM
TRIGGER:-PT30M
ACTION:DISPLAY
DESCRIPTION:Empieza Estados Unidos vs Paraguay
END:VALARM
END:VEVENT
BEGIN:VEVENT
UID:G10-M2@mundial2026
DTSTAMP:20260419T125755Z
DTSTART:20260619T160000Z
DTEND:20260619T180000Z
SUMMARY:Estados Unidos vs Australia
DESCRIPTION:DSports
BEGIN:VALARM
TRIGGER:-PT30M
ACTION:DISPLAY
DESCRIPTION:Empieza Estados Unidos vs Australia
END:VALARM
END:VEVENT
BEGIN:VEVENT
UID:G10-M3@mundial2026
DTSTAMP:20260419T125755Z
DTSTART:20260626T010000Z
DTEND:20260626T030000Z
SUMMARY:Estados Unidos vs Turquía
DESCRIPTION:DSports
BEGIN:VALARM
TRIGGER:-PT30M
ACTION:DISPLAY
DESCRIPTION:Empieza Estados Unidos vs Turquía
END:VALARM
END:VEVENT
BEGIN:VEVENT
UID:G10-M4@mundial2026
DTSTAMP:20260419T125755Z
DTSTART:20260626T010000Z
DTEND:20260626T030000Z
SUMMARY:Paraguay vs Australia
DESCRIPTION:DSports
BEGIN:VALARM
TRIGGER:-PT30M
ACTION:DISPLAY
DESCRIPTION:Empieza Paraguay vs Australia
END:VALARM
END:VEVENT
BEGIN:VEVENT
UID:G10-M5@mundial2026
DTSTAMP:20260419T125755Z
DTSTART:20260620T010000Z
DTEND:20260620T030000Z
SUMMARY:Paraguay vs Turquía
DESCRIPTION:DSports
BEGIN:VALARM
TRIGGER:-PT30M
ACTION:DISPLAY
DESCRIPTION:Empieza Paraguay vs Turquía
END:VALARM
END:VEVENT
BEGIN:VEVENT
UID:G10-M6@mundial2026
DTSTAMP:20260419T125755Z
DTSTART:20260614T010000Z
DTEND:20260614T030000Z
SUMMARY:Australia vs Turquía
DESCRIPTION:DSports
BEGIN:VALARM
TRIGGER:-PT30M
ACTION:DISPLAY
DESCRIPTION:Empieza Australia vs Turquía
END:VALARM
END:VEVENT
BEGIN:VEVENT
UID:G11-M1@mundial2026
DTSTAMP:20260419T125755Z
DTSTART:20260618T160000Z
DTEND:20260618T180000Z
SUMMARY:Suiza vs Bosnia y Herzegovina
DESCRIPTION:DSports
BEGIN:VALARM
TRIGGER:-PT30M
ACTION:DISPLAY
DESCRIPTION:Empieza Suiza vs Bosnia y Herzegovina
END:VALARM
END:VEVENT
BEGIN:VEVENT
UID:G11-M2@mundial2026
DTSTAMP:20260419T125755Z
DTSTART:20260624T160000Z
DTEND:20260624T180000Z
SUMMARY:Suiza vs Canadá
DESCRIPTION:DSports
BEGIN:VALARM
TRIGGER:-PT30M
ACTION:DISPLAY
DESCRIPTION:Empieza Suiza vs Canadá
END:VALARM
END:VEVENT
BEGIN:VEVENT
UID:G11-M3@mundial2026
DTSTAMP:20260419T125755Z
DTSTART:20260613T160000Z
DTEND:20260613T180000Z
SUMMARY:Suiza vs Catar
DESCRIPTION:DSports
BEGIN:VALARM
TRIGGER:-PT30M
ACTION:DISPLAY
DESCRIPTION:Empieza Suiza vs Catar
END:VALARM
END:VEVENT
BEGIN:VEVENT
UID:G11-M4@mundial2026
DTSTAMP:20260419T125755Z
DTSTART:20260612T160000Z
DTEND:20260612T180000Z
SUMMARY:Bosnia y Herzegovina vs Canadá
DESCRIPTION:DSports
BEGIN:VALARM
TRIGGER:-PT30M
ACTION:DISPLAY
DESCRIPTION:Empieza Bosnia y Herzegovina vs Canadá
END:VALARM
END:VEVENT
BEGIN:VEVENT
UID:G11-M5@mundial2026
DTSTAMP:20260419T125755Z
DTSTART:20260624T160000Z
DTEND:20260624T180000Z
SUMMARY:Bosnia y Herzegovina vs Catar
DESCRIPTION:DSports
BEGIN:VALARM
TRIGGER:-PT30M
ACTION:DISPLAY
DESCRIPTION:Empieza Bosnia y Herzegovina vs Catar
END:VALARM
END:VEVENT
BEGIN:VEVENT
UID:G11-M6@mundial2026
DTSTAMP:20260419T125755Z
DTSTART:20260618T190000Z
DTEND:20260618T210000Z
SUMMARY:Canadá vs Catar
DESCRIPTION:DSports
BEGIN:VALARM
TRIGGER:-PT30M
ACTION:DISPLAY
DESCRIPTION:Empieza Canadá vs Catar
END:VALARM
END:VEVENT
BEGIN:VEVENT
UID:G12-M1@mundial2026
DTSTAMP:20260419T125755Z
DTSTART:20260615T160000Z
DTEND:20260615T180000Z
SUMMARY:Bélgica vs Egipto
DESCRIPTION:DSports
BEGIN:VALARM
TRIGGER:-PT30M
ACTION:DISPLAY
DESCRIPTION:Empieza Bélgica vs Egipto
END:VALARM
END:VEVENT
BEGIN:VEVENT
UID:G12-M2@mundial2026
DTSTAMP:20260419T125755Z
DTSTART:20260621T160000Z
DTEND:20260621T180000Z
SUMMARY:Bélgica vs Irán
DESCRIPTION:DSports
BEGIN:VALARM
TRIGGER:-PT30M
ACTION:DISPLAY
DESCRIPTION:Empieza Bélgica vs Irán
END:VALARM
END:VEVENT
BEGIN:VEVENT
UID:G12-M3@mundial2026
DTSTAMP:20260419T125755Z
DTSTART:20260627T000000Z
DTEND:20260627T020000Z
SUMMARY:Bélgica vs Nueva Zelanda
DESCRIPTION:DSports
BEGIN:VALARM
TRIGGER:-PT30M
ACTION:DISPLAY
DESCRIPTION:Empieza Bélgica vs Nueva Zelanda
END:VALARM
END:VEVENT
BEGIN:VEVENT
UID:G12-M4@mundial2026
DTSTAMP:20260419T125755Z
DTSTART:20260627T000000Z
DTEND:20260627T020000Z
SUMMARY:Egipto vs Irán
DESCRIPTION:DSports
BEGIN:VALARM
TRIGGER:-PT30M
ACTION:DISPLAY
DESCRIPTION:Empieza Egipto vs Irán
END:VALARM
END:VEVENT
BEGIN:VEVENT
UID:G12-M5@mundial2026
DTSTAMP:20260419T125755Z
DTSTART:20260621T220000Z
DTEND:20260622T000000Z
SUMMARY:Egipto vs Nueva Zelanda
DESCRIPTION:DSports
BEGIN:VALARM
TRIGGER:-PT30M
ACTION:DISPLAY
DESCRIPTION:Empieza Egipto vs Nueva Zelanda
END:VALARM
END:VEVENT
BEGIN:VEVENT
UID:G12-M6@mundial2026
DTSTAMP:20260419T125755Z
DTSTART:20260615T210000Z
DTEND:20260615T230000Z
SUMMARY:Irán vs Nueva Zelanda
DESCRIPTION:DSports
BEGIN:VALARM
TRIGGER:-PT30M
ACTION:DISPLAY
DESCRIPTION:Empieza Irán vs Nueva Zelanda
END:VALARM
END:VEVENT
END:VCALENDAR
